BEGIN:VCALENDAR
VERSION:2.0
PRODID:-//wp-events-plugin.com//7.2.3.1//EN
TZID:Europe/Berlin
X-WR-TIMEZONE:Europe/Berlin
BEGIN:VEVENT
UID:23@erfolgsplus.de
DTSTART;TZID=Europe/Berlin:20251119T160000
DTEND;TZID=Europe/Berlin:20261112T180000
DTSTAMP:20250808T085459Z
URL:https://erfolgsplus.de/events/crossmentoring-agv-2025-2026/
SUMMARY:CrossMentoring AGV 2025-2026
DESCRIPTION:Mit dem CrossMentoring AGV des Arbeitgeberverbandes Paderborn/
  Höxter wird Führungskompetenz gezielt entwickelt. Es bietet Unternehmen
  aus der Region eine einzigartige Chance\, ihren Führungskräftenachwuchs
  gezielt zu fördern und in der Region zu verankern – unternehmensüberg
 reifend\, praxisnah und individuell. Die überschaubare Größe der Jahrg
 änge schafft Raum für vertieften Austausch und unterstützt eine starke 
 Entwicklung und nachhaltige Vernetzung in der Region.\n\nWir führen das C
 rossMentoring AGV für den Arbeitgeberverband Paderborn/ Höxter durch. Fa
 chlich geleitet wird das Programm von Anja Schulte\, x3Y Mentoring GmbH.\n
 \nErfahren Sie hier alles zu Inhalt\, Ablauf und Anmeldemöglichkeiten zum
  CrossMentoring AGV 2025-2026:\n\nFlyer CrossMentoring AGV 2025-2026\n\nTe
 rminplan CrossMentoring AGV Jahrgang 2025\n\nBITTE KONTAKTIEREN SIE UNS UN
 TER T: 05251 284728 - 10 oder E: a.stratmann@erfolgsplus.de\, wenn Sie Fra
 gen haben oder Nachwuchsführungskräfte zum CrossMentoring AGV anmelden m
 öchten!
ATTACH;FMTTYPE=image/jpeg:https://erfolgsplus.de/wp-content/uploads/Logo-1
 .png
CATEGORIES:geschlossen
END:VEVENT
BEGIN:VTIMEZONE
TZID:Europe/Berlin
X-LIC-LOCATION:Europe/Berlin
BEGIN:STANDARD
DTSTART:20251026T020000
TZOFFSETFROM:+0200
TZOFFSETTO:+0100
TZNAME:CET
END:STANDARD
BEGIN:DAYLIGHT
DTSTART:20260329T030000
TZOFFSETFROM:+0100
TZOFFSETTO:+0200
TZNAME:CEST
END:DAYLIGHT
BEGIN:STANDARD
DTSTART:20261025T020000
TZOFFSETFROM:+0200
TZOFFSETTO:+0100
TZNAME:CET
END:STANDARD
END:VTIMEZONE
END:VCALENDAR